BEGIN:VCALENDAR
PRODID:-//AT Content Types//AT Event//EN
VERSION:1.0
BEGIN:VEVENT
DTSTART:20100722T180000Z
DTEND:20100722T201500Z
DCREATED:20100531T091428Z
UID:ATEvent-30513390a3381d9991dea12ada937948
SEQUENCE:0
LAST-MODIFIED:20100604T112944Z
SUMMARY:FeuerMond - Nicht alles\, was glänzt
DESCRIPTION:Goldene Geschichten \nMünzen\, Zähne und Brokat\, vieles
  kann aus Gold sein und im Märchen sogar ein Berg\, Haut und Haar
LOCATION:Zeughaus Innsbruck InnenHof und SternenHimmel oder InnenRaum und MuseumsHimmel
PRIORITY:3
TRANSP:0
END:VEVENT
END:VCALENDAR
