BEGIN:VCALENDAR
PRODID:-//AT Content Types//AT Event//EN
VERSION:2.0
METHOD:PUBLISH
BEGIN:VEVENT
DTSTAMP:20260424T015821Z
CREATED:20100518T140341Z
UID:ATEvent-f1a54d24dd4fb076dc3df07a3873283e
LAST-MODIFIED:20100604T084801Z
SUMMARY:FeuerMond - Kirschkuss\, Rubine und Rosen
DTSTART:20100716T180000Z
DTEND:20100716T200000Z
DESCRIPTION:Rote Märchen \nerzählen von Küssen und Äpfeln\, Leiden
  und Leidenschaft\, Raben und Riesen.
LOCATION:Zeughaus Innsbruck InnenHof und SternenHimmel oder InnenRaum und MuseumsHimmel
CATEGORIES:Tirol
CONTACT:Frau Wolle\, 0512-370316\, frau.wolle@utanet.at
URL:http://www.frauwolle.at
CLASS:PUBLIC
END:VEVENT
END:VCALENDAR
