BEGIN:VCALENDAR
PRODID:-//AT Content Types//AT Event//EN
VERSION:1.0
BEGIN:VEVENT
DTSTART:20100717T180000Z
DTEND:20100717T201500Z
DCREATED:20100518T140743Z
UID:ATEvent-3538e34b69cecaffeada269323e3e37d
SEQUENCE:0
LAST-MODIFIED:20100604T084932Z
SUMMARY:FeuerMond - Grünes Wasser\, grüne Insel\, grüner Wald
DESCRIPTION:Grüne Geschichten und Märchen\nvon weiblichen und männl
 ichen Schönheiten\, einem Feenkönig\, einem Stück Seide und der Far
 be des Schicksals
LOCATION:Zeughaus Innsbruck InnenHof und SternenHimmel oder InnenRaum und MuseumsHimmel
PRIORITY:3
TRANSP:0
END:VEVENT
END:VCALENDAR
