BEGIN:VCALENDAR
PRODID:-//AT Content Types//AT Event//EN
VERSION:2.0
METHOD:PUBLISH
BEGIN:VEVENT
DTSTAMP:20260424T015451Z
CREATED:20100531T091714Z
UID:ATEvent-658ef612b6280a5c220ef15bfcab84d0
LAST-MODIFIED:20100604T113249Z
SUMMARY:FeuerMond - Drei Wünsche
DTSTART:20100723T180000Z
DTEND:20100723T201500Z
DESCRIPTION:Märchen & Geschichten - Glück
LOCATION:Zeughaus Innsbruck InnenHof und SternenHimmel oder InnenRaum und MuseumsHimmel
CATEGORIES:Tirol
CONTACT:Frau Wolle\, 0512-370316\, frau.wolle@utanet.at
URL:http://www.frauwolle.at
CLASS:PUBLIC
END:VEVENT
END:VCALENDAR
