BEGIN:VCALENDAR
PRODID:-//AT Content Types//AT Event//EN
VERSION:2.0
METHOD:PUBLISH
BEGIN:VEVENT
DTSTAMP:20260424T041923Z
CREATED:20121213T161040Z
UID:ATEvent-e5624b26fab33534a1f47c08140f2e0c
LAST-MODIFIED:20121213T161109Z
SUMMARY:FEDERLEICHT UND VOGELFREI / WORDS ON THE WING
DTSTART:20130102T190000Z
DTEND:20130102T203000Z
DESCRIPTION:Märchen\, Mythen\, Liebesgeschichten\nFrau Wolle gemeinsa
 m mit David Ambrose (Wales)\nAuf Englisch\, auf Deutsch\, verschachtel
 t\, verwoben\, verzaubernd\, verständlich auch ohne Englischkenntniss
 e. \nÜber Teufeslkünste\, bunte Männer\, fette Gänse und die List 
 eines goldenen Vogels... stories about three truths and an empty stoma
 ch\, lovers' tricks\, crow's advice\, cheaters and rulers!   /   Eintr
 itt\: 12.- Vorverkauf 10.-   /   Sehr ratsam ist es\, die Karten im Vo
 rverkauf zu erwerben! Am besten direkt im Café Katzung in Innsbruck
LOCATION:Café Katzung\, Altstadt Innsbruck
CATEGORIES:Tirol
CONTACT:Frau Wolle (Karin Tscholl)\, +43-(0)512-37 03 16\, frau.wolle@utanet.at
URL:http://www.frauwolle.at/
CLASS:PUBLIC
END:VEVENT
END:VCALENDAR
