BEGIN:VCALENDAR
PRODID:-//AT Content Types//AT Event//EN
VERSION:1.0
BEGIN:VEVENT
DTSTART:20111104T191500Z
DTEND:20111104T213000Z
DCREATED:20111003T115311Z
UID:ATEvent-e2de1e134c394fc43987a81682e452d3
SEQUENCE:0
LAST-MODIFIED:20111003T115322Z
SUMMARY:GALA-ABEND zum Festival "Erzähl-es-Innsbruck"
DESCRIPTION:mehrere erzählen
LOCATION:Innsbruck\, Haus der Begegnung
PRIORITY:3
TRANSP:0
END:VEVENT
END:VCALENDAR
