BEGIN:VCALENDAR
PRODID:-//AT Content Types//AT Event//EN
VERSION:2.0
METHOD:PUBLISH
BEGIN:VEVENT
DTSTAMP:20260424T014640Z
CREATED:20100531T094059Z
UID:ATEvent-66592b56cc6b6cedbbcb00e9f0c72056
LAST-MODIFIED:20100531T094134Z
SUMMARY:Erdbeeren mit Pfeffer
DTSTART:20100702T180000Z
DTEND:20100702T203000Z
DESCRIPTION:Märchen und Musik voller Sinnlichkeit
LOCATION:Schloß Höch in Flachau/Reitdorf
CATEGORIES:Salzburg
CONTACT:Margarete Wenzel\, 01-4817664\, margaretewen@tele2.at
CLASS:PUBLIC
END:VEVENT
END:VCALENDAR
