BEGIN:VCALENDAR
PRODID:-//AT Content Types//AT Event//EN
VERSION:2.0
METHOD:PUBLISH
BEGIN:VEVENT
DTSTAMP:20260423T233438Z
CREATED:20120714T123654Z
UID:ATEvent-1e24cb6ae7f7e444e0277f17c5c26b44
LAST-MODIFIED:20120714T123709Z
SUMMARY:EISENHANS TRIFFT HENNENPFÖSL
DTSTART:20120925T170000Z
DTEND:20120925T190000Z
DESCRIPTION:Frau Wolle erzählt rostfreie Märchen der Tiroler Brüder
  Zingerle und ein bisschen Grimm dazu. Anlässlich des Jubiläumsjahre
 s 200 Jahre Kinder- und Hausmärchen der Brüder Grimm.
LOCATION:n der Tyrolia Wien hinter dem Stephansdom
CATEGORIES:Wien
CONTACT:Frau Wolle\, 0512-370316\, frau.wolle@utanet.at
URL:http://www.frauwolle.at
CLASS:PUBLIC
END:VEVENT
END:VCALENDAR
