BEGIN:VCALENDAR
PRODID:-//AT Content Types//AT Event//EN
VERSION:2.0
METHOD:PUBLISH
BEGIN:VEVENT
DTSTAMP:20260424T041923Z
CREATED:20121030T112446Z
UID:ATEvent-ddbc4466a50f8c22072e9e5c166070f7
LAST-MODIFIED:20121030T112640Z
SUMMARY:EISENHANS trifft HENNENPFÃ–SL
DTSTART:20121031T180000Z
DTEND:20121031T203000Z
DESCRIPTION:Frau Wolle erzÃ¤hlt rostfreie MÃ¤rchen der Tiroler BrÃ¼der
  Zingerle und ein bisschen Grimm dazu. AnlÃ¤sslich des JubilÃ¤umsjahre
 s 200 Jahre Kinder- und HausmÃ¤rchen der BrÃ¼der Grimm.\nLiebe und GlÃ
 ¼ck werden verloren\, verfolgt und verstanden. Nebenbei erfahren wir e
 in wenig Ã¼ber das Leben der zwei BrÃ¼der\, die diese Geschichten gesa
 mmelt haben.
LOCATION:Mittelschule\, Untere Dorfstr. 20 in Langkampfen
CATEGORIES:Tirol
CONTACT:Frau Wolle\, 0043 512 37 03 16\, frau.wolle@utanet.at
URL:http://www.frauwolle.at/
CLASS:PUBLIC
END:VEVENT
END:VCALENDAR
