BEGIN:VCALENDAR
PRODID:-//AT Content Types//AT Event//EN
VERSION:1.0
BEGIN:VEVENT
DTSTART:20121003T170000Z
DTEND:20121003T190000Z
DCREATED:20120714T124113Z
UID:ATEvent-ff0e7c2a6176a314c013455d8340de6b
SEQUENCE:0
LAST-MODIFIED:20120714T124125Z
SUMMARY:EISENHANS TRIFFT HENNENPFÖSL
DESCRIPTION:Frau Wolle erzählt rostfreie Märchen der Tiroler Brüder
  Zingerle und ein bisschen Grimm dazu. Anlässlich des Jubiläumsjahre
 s 200 Jahre Kinder- und Hausmärchen der Brüder Grimm.
LOCATION:in Ehrwald
PRIORITY:3
TRANSP:0
END:VEVENT
END:VCALENDAR
