BEGIN:VCALENDAR
PRODID:-//AT Content Types//AT Event//EN
VERSION:2.0
METHOD:PUBLISH
BEGIN:VEVENT
DTSTAMP:20260424T015450Z
CREATED:20110530T120909Z
UID:ATEvent-680a06a17f12ec1e8ca41b080e334ac8
LAST-MODIFIED:20110530T120919Z
SUMMARY:Drei andere Wünsche frei
DTSTART:20110724T180000Z
DTEND:20110724T200000Z
DESCRIPTION:andere ZuhörerInnen dürfen aus 33 Märchen wählen
LOCATION:Zeughaus Innsbruck
CATEGORIES:Tirol
CONTACT:Frau Wolle\, 0512-370316\, frau.wolle@utanet.at
URL:http://www.frauwolle.at
CLASS:PUBLIC
END:VEVENT
END:VCALENDAR
