BEGIN:VCALENDAR
PRODID:-//AT Content Types//AT Event//EN
VERSION:1.0
BEGIN:VEVENT
DTSTART:20130112T190000Z
DTEND:20130112T203000Z
DCREATED:20121213T161956Z
UID:ATEvent-6f9266d2216e8d4b0a7b4c8e184660e2
SEQUENCE:0
LAST-MODIFIED:20121213T162135Z
SUMMARY:DER SCHATZ IM BETT
DESCRIPTION:Frau Wolle erzählt Geschichten und Märchen über Liebe\,
  Träume und den Lohn der Schlaflosigkeit\, federleichte Musik zum Sta
 unen\, Schmunzeln\, Träumen und Erwachen\nViele werden dort geboren\,
  manche sterben dort\, für uns alle geschieht so einiges dazwischen -
  im Bett. Lasterhafte Liebeslager\, Träume von Graubärten\, Gänsen 
 und Geheimnissen\, großherzige Gastfreundschaft und die Suche nach de
 m Bett des Glücks.... merk-würdige Märchen für Liebende\, Schnarch
 ende und Aufgeweckte. Denn wie wir uns betten\, so leben wir!   /   mi
 t Klaus FALSCHLUNGER auf der Sitar   /   Eintritt\: Vorverkauf 12.- er
 mäßigt 6.-\, Abendkasse 14.- ermäßigt 7.-   /   Info und Kartenres
 ervierung unter www.stadtkultur.at 04852 600 205
LOCATION:Musikschule Lienz\, Messinggasse 24
PRIORITY:3
TRANSP:0
END:VEVENT
END:VCALENDAR
