BEGIN:VCALENDAR
PRODID:-//AT Content Types//AT Event//EN
VERSION:1.0
BEGIN:VEVENT
DTSTART:20120720T180000Z
DTEND:20120720T200000Z
DCREATED:20120714T122557Z
UID:ATEvent-a758f27c8dc2b1eebcf400c8f3cd6255
SEQUENCE:0
LAST-MODIFIED:20120714T122610Z
SUMMARY:DER SCHATZ IM BETT/ FeuerMOnd
DESCRIPTION:Geschichten über Liebe\, Träume und den Lohn der Schlafl
 osigkeit\, sowie federleichte Musik zum Staunen\, Schmunzeln und Erwac
 hen.
LOCATION:Tiroler Volskkunstmuseum Universitätsstraße 2 Innsbruck
PRIORITY:3
TRANSP:0
END:VEVENT
END:VCALENDAR
