BEGIN:VCALENDAR
PRODID:-//AT Content Types//AT Event//EN
VERSION:1.0
BEGIN:VEVENT
DTSTART:20120722T180000Z
DTEND:20120722T200000Z
DCREATED:20120714T123022Z
UID:ATEvent-2867dadd7bac6994accdb896e42a1a5e
SEQUENCE:0
LAST-MODIFIED:20120714T123037Z
SUMMARY:DER SCHATZ IM BETT/ FeuerMOnd
DESCRIPTION:Geschichten über Liebe\, Träume und den Lohn der Schlafl
 osigkeit\, sowie federleichte Musik zum Staunen\, Schmunzeln und Erwac
 hen.
LOCATION:Tiroler Volkskunstmuseum Universitätsstraße 2 Innsbruck
PRIORITY:3
TRANSP:0
END:VEVENT
END:VCALENDAR
