BEGIN:VCALENDAR
PRODID:-//AT Content Types//AT Event//EN
VERSION:2.0
METHOD:PUBLISH
BEGIN:VEVENT
DTSTAMP:20260424T015627Z
CREATED:20120714T122823Z
UID:ATEvent-b0bdf79a2ab94a1d29d41d8bb66e1124
LAST-MODIFIED:20120714T122834Z
SUMMARY:DER SCHATZ IM BETT/ FeuerMOnd
DTSTART:20120721T180000Z
DTEND:20120721T200000Z
DESCRIPTION:Geschichten über Liebe\, Träume und den Lohn der Schlafl
 osigkeit\, sowie federleichte Musik zum Staunen\, Schmunzeln und Erwac
 hen.
LOCATION:Tiroler Volkskunstmuseum Universitätsstraße 2 Innsbruck
CATEGORIES:Tirol
CONTACT:Frau Wolle\, 0512-370316\, frau.wolle@utanet.at
URL:http://www.frauwolle.at
CLASS:PUBLIC
END:VEVENT
END:VCALENDAR
