BEGIN:VCALENDAR
PRODID:-//AT Content Types//AT Event//EN
VERSION:1.0
BEGIN:VEVENT
DTSTART:20111226T190000Z
DTEND:20111226T210000Z
DCREATED:20111113T223415Z
UID:ATEvent-0482985f8f4a688125e041089abdba16
SEQUENCE:0
LAST-MODIFIED:20111113T224102Z
SUMMARY:DER MANN AUS MARZIPAN
DESCRIPTION:Geschichten und Märchen voller Humor und Zauber\, frei er
 zählt von Frau Wolle\nmit magischer Musik von Barbara Romen am Hackbr
 ett und Gunter Schneider auf den Gitarren
LOCATION:Café Katzung in der Altstadt von Innsbruck
PRIORITY:3
TRANSP:0
END:VEVENT
END:VCALENDAR
