BEGIN:VCALENDAR
PRODID:-//AT Content Types//AT Event//EN
VERSION:2.0
METHOD:PUBLISH
BEGIN:VEVENT
DTSTAMP:20260424T014856Z
CREATED:20111113T223924Z
UID:ATEvent-81e97ee798d6ddcd0f5a6b99eff9b73c
LAST-MODIFIED:20111113T225354Z
SUMMARY:DER MANN AUS MARZIPAN
DTSTART:20120105T190000Z
DTEND:20120105T210000Z
DESCRIPTION:Geschichten und Märchen voller Humor und Zauber\, frei er
 zählt von Frau Wolle\nmit magischer Musik von Barbara Romen am Hackbr
 ett und Gunter Schneider auf den Gitarren
LOCATION:Café Katzung in der Altstadt von Innsbruck
CATEGORIES:Tirol
CONTACT:Frau Wolle\, 0512-370316\, frau.wolle@utanet.at
URL:http://www.frauwolle.at
CLASS:PUBLIC
END:VEVENT
END:VCALENDAR
