BEGIN:VCALENDAR
PRODID:-//AT Content Types//AT Event//EN
VERSION:1.0
BEGIN:VEVENT
DTSTART:20111230T190000Z
DTEND:20111230T210000Z
DCREATED:20111113T223656Z
UID:ATEvent-437aa92c1519a74e6201da4b4eb99e6d
SEQUENCE:0
LAST-MODIFIED:20111113T224015Z
SUMMARY:DER MANN AUS MARZIPAN
DESCRIPTION:Geschichten und Märchen voller Humor und Zauber\, frei er
 zählt von Frau Wolle\nmit magischer Musik von Barbara Romen am Hackbr
 ett und Gunter Schneider auf den Gitarren
LOCATION:Café Katzung in der Altstadt von Innsbruck
PRIORITY:3
TRANSP:0
END:VEVENT
END:VCALENDAR
