BEGIN:VCALENDAR
PRODID:-//AT Content Types//AT Event//EN
VERSION:1.0
BEGIN:VEVENT
DTSTART:20110717T170500Z
DTEND:20110717T193000Z
DCREATED:20110530T121343Z
UID:ATEvent-ec2e720e89a48d4b91a3556cd4aae264
SEQUENCE:0
LAST-MODIFIED:20110530T121354Z
SUMMARY:Baumbart und Hasenherz
DESCRIPTION:WaldGeschichten - Spuren lesen und Märchen hören
LOCATION:im Wald bei Igls
PRIORITY:3
TRANSP:0
END:VEVENT
END:VCALENDAR
