BEGIN:VCALENDAR
PRODID:-//AT Content Types//AT Event//EN
VERSION:1.0
BEGIN:VEVENT
DTSTART:20110731T170500Z
DTEND:20110731T193000Z
DCREATED:20110530T122223Z
UID:ATEvent-78a0250ddefb96b21d3db15297886035
SEQUENCE:0
LAST-MODIFIED:20110530T122223Z
SUMMARY:Baumbart und Hasenherz
DESCRIPTION:WaldGeschichten - Spuren lesen und Märchen hören
LOCATION:im Wald bei Igls/Innsbruck
PRIORITY:3
TRANSP:0
END:VEVENT
END:VCALENDAR
