BEGIN:VCALENDAR
PRODID:-//AT Content Types//AT Event//EN
VERSION:2.0
METHOD:PUBLISH
BEGIN:VEVENT
DTSTAMP:20260424T015131Z
CREATED:20110530T121959Z
UID:ATEvent-22a7145f63fdd12cb7dfff2bda2892c7
LAST-MODIFIED:20110530T122008Z
SUMMARY:Baumbart und Hasenherz
DTSTART:20110730T170500Z
DTEND:20110730T193000Z
DESCRIPTION:WaldGeschichten - Spuren lesen und Märchen hören
LOCATION:im Wald bei Igls/Innsbruck
CATEGORIES:Tirol
CONTACT:Frau Wolle\, 0512-370316\, frau.wolle@utanet.at
URL:http://www.frauwolle.at
CLASS:PUBLIC
END:VEVENT
END:VCALENDAR
