BEGIN:VCALENDAR
PRODID:-//AT Content Types//AT Event//EN
VERSION:1.0
BEGIN:VEVENT
DTSTART:20110729T170500Z
DTEND:20110729T193000Z
DCREATED:20110530T121730Z
UID:ATEvent-934aac52a37a2f8d78eb2aa3c60ad795
SEQUENCE:0
LAST-MODIFIED:20110530T121740Z
SUMMARY:Baumbart und Hasenherz
DESCRIPTION:WaldGeschichten - Spuren lesen und Märchen hören
LOCATION:im Wald bei Igls/Innsbruck
PRIORITY:3
TRANSP:0
END:VEVENT
END:VCALENDAR
