BEGIN:VCALENDAR
PRODID:-//AT Content Types//AT Event//EN
VERSION:2.0
METHOD:PUBLISH
BEGIN:VEVENT
DTSTAMP:20260424T021121Z
CREATED:20100429T093801Z
UID:ATEvent-95736b3555a9d7d6917c72474b2c3fed
LAST-MODIFIED:20100502T070847Z
SUMMARY:Augenblick und Ohrenglück
DTSTART:20100512T181500Z
DTEND:20100512T203000Z
DESCRIPTION:Buchpräsentation & Erzählabend
LOCATION:ORF Landesstudio\, Rennweg 14 \, Innsbruck
CATEGORIES:Tirol
CONTACT:Frau Wolle\, o512-37 03 16\, frau.wolle@utanet.at
URL:http://www.frauwolle.at
CLASS:PUBLIC
END:VEVENT
END:VCALENDAR
