BEGIN:VCALENDAR
PRODID:-//AT Content Types//AT Event//EN
VERSION:1.0
BEGIN:VEVENT
DTSTART:20120419T180000Z
DTEND:20120419T200000Z
DCREATED:20120307T140004Z
UID:ATEvent-c6596b2b27ef468ee16338a920661383
SEQUENCE:0
LAST-MODIFIED:20120307T140014Z
SUMMARY:AUGENBLICK UND OHRENGLÜCK
DESCRIPTION:Geschichten und Märchen zum Genießen für hungrige Ohren
 \nerzählen von wirksamen Wundern\, Stunden und Jahren\, Augenblicken 
 und der Ewigkeit.
LOCATION:in Flaurling im Kultursaal des Gemeindezentrums obere Pfarrsiedlung oberhalb der Kirche
PRIORITY:3
TRANSP:0
END:VEVENT
END:VCALENDAR
