BEGIN:VCALENDAR
PRODID:-//AT Content Types//AT Event//EN
VERSION:1.0
BEGIN:VEVENT
DTSTART:20111209T180000Z
DTEND:20111209T210000Z
DCREATED:20111003T115546Z
UID:ATEvent-defbca7f8204a273795d44c20e6cddb6
SEQUENCE:0
LAST-MODIFIED:20111003T115556Z
SUMMARY:AUGENBLICK und GAUMEN-GLÜCK
DESCRIPTION:Geschichten und Märchen zum Genießen für hungrige Ohren
  mit MENÜ dazu
LOCATION:Schwarzenberg im Bregenzer Wald
PRIORITY:3
TRANSP:0
END:VEVENT
END:VCALENDAR
