BEGIN:VCALENDAR
PRODID:-//AT Content Types//AT Event//EN
VERSION:1.0
BEGIN:VEVENT
DTSTART:20120719T180000Z
DTEND:20120719T200000Z
DCREATED:20120714T122126Z
UID:ATEvent-30bfdad21732e5311b1340d8fc077545
SEQUENCE:0
LAST-MODIFIED:20120714T123157Z
SUMMARY:AM SEIDENEN FADEN/FeuerMOnd
DESCRIPTION:Erzaehlungen vom spinnwebduennen Grat zwischen den Welten\
 nDas reisende Geschichtenfest landet zwischen Weilheim und Wolfratshau
 sen auch in Innsbruck.
LOCATION:Tiroler Volskkunstmuseum Universitätsstraße 2
PRIORITY:3
TRANSP:0
END:VEVENT
END:VCALENDAR
