BEGIN:VCALENDAR
PRODID:-//AT Content Types//AT Event//EN
VERSION:1.0
BEGIN:VEVENT
DTSTART:20100730T174500Z
DTEND:20100730T191500Z
DCREATED:20100706T163626Z
UID:ATEvent-fad8d68f3c18a799e6c7f32bef1737ba
SEQUENCE:0
LAST-MODIFIED:20100706T164236Z
SUMMARY:ABENDLICHT - GESCHICHTEN
DESCRIPTION:...Musik der Waldvogelchor...\n...Licht der Himmel...\n...
 Märchen Frau Wolle...\nErzählt werden vielfarbige ausgewählte Märc
 hen aus den 7 Feuermond-Abenden
LOCATION:in VILL oberhalb von Innsbruck
PRIORITY:3
TRANSP:0
END:VEVENT
END:VCALENDAR
