BEGIN:VCALENDAR
PRODID:-//AT Content Types//AT Event//EN
VERSION:1.0
BEGIN:VEVENT
DTSTART:20111118T190000Z
DTEND:20111118T210000Z
DCREATED:20111113T224657Z
UID:ATEvent-13d17cd97b20899bc287f80d6071d0e1
SEQUENCE:0
LAST-MODIFIED:20111113T224845Z
SUMMARY:ABENDLICHT - GESCHICHTEN
DESCRIPTION:Märchen zwischen Tag und Nacht\, für die Stunde zwischen
  Hund und Wolf\, zwischen Wachen und Träumen\nDenn ...\nWenn der Wind
  weht\, löscht er die Kerze aus und facht das Feuer an.~ arabisches S
 prichwort
LOCATION:in der Thöni Akademie Ausstellung Telfs
PRIORITY:3
TRANSP:0
END:VEVENT
END:VCALENDAR
