BEGIN:VCALENDAR
PRODID:-//AT Content Types//AT Event//EN
VERSION:1.0
BEGIN:VEVENT
DTSTART:20111116T190000Z
DTEND:20111116T210000Z
DCREATED:20111113T224413Z
UID:ATEvent-0770f46252d6e323d620c615bf07f473
SEQUENCE:0
LAST-MODIFIED:20111113T224425Z
SUMMARY:ABENDLICHT - GESCHICHTEN
DESCRIPTION:Alte und uralte Geschichten aus Tirol und der Welt erzähl
 en vom wilden Mut der Entschlossenen\, der Barmherzigkeit in Stürmen 
 und anderen verwunderlichen Begebenheiten. Spannendes von Funken\, Ker
 zen\, Gestirnen und anderen Lichtblicken.
LOCATION:in der Gemeindebücherei Volders
PRIORITY:3
TRANSP:0
END:VEVENT
END:VCALENDAR
