BEGIN:VCALENDAR
PRODID:-//AT Content Types//AT Event//EN
VERSION:1.0
BEGIN:VEVENT
DTSTART:20110722T180000Z
DTEND:20110722T200000Z
DCREATED:20110530T120149Z
UID:ATEvent-f6412da68d20d338779a75ef5385d495
SEQUENCE:0
LAST-MODIFIED:20110530T121013Z
SUMMARY:Abendlicht-Geschichten
DESCRIPTION:Märchen zwischen Hund und Wolf\, Wachen und Träumen
LOCATION:Zeughaus Innsbruck
PRIORITY:3
TRANSP:0
END:VEVENT
END:VCALENDAR
