BEGIN:VCALENDAR
PRODID:-//AT Content Types//AT Event//EN
VERSION:2.0
METHOD:PUBLISH
BEGIN:VEVENT
DTSTAMP:20260424T041433Z
CREATED:20110530T115304Z
UID:ATEvent-33a85c66dcae8d06854e41eccdd9232b
LAST-MODIFIED:20110530T115414Z
SUMMARY:ABENDLICHT-GESCHICHTEN
DTSTART:20110618T180000Z
DTEND:20110618T200000Z
DESCRIPTION:Märchen zwischen Tag und Nacht\, für die Stunde zwischen
  Hund und Wolf\, zwischen Wachen und Träumen
LOCATION:Fiecht
CATEGORIES:Tirol
CONTACT:Frau Wolle\, 0512-370316\, frau.wolle@utanet.at
URL:http://www.frauwolle.at
CLASS:PUBLIC
END:VEVENT
END:VCALENDAR
