BEGIN:VCALENDAR
PRODID:-//AT Content Types//AT Event//EN
VERSION:1.0
BEGIN:VEVENT
DTSTART:20091230T190000Z
DTEND:20091230T210000Z
DCREATED:20091201T140910Z
UID:ATEvent-3a4083a180cc779dfccd98d99e336bad
SEQUENCE:0
LAST-MODIFIED:20091201T140932Z
SUMMARY:LIEBESMÄRCHEN UND LIEBLINGSGESCHICHTEN...
DESCRIPTION:mit Katzenzungen\, Katzenpfoten\, einem schnurrrrrrrrenden
  Spinnrad und  garantiert keiner Katzenmusik\, sondern Manu Delago an 
 den Hang Hang
LOCATION:Cafe Katzung Herzog Friedrichstr 16
PRIORITY:3
TRANSP:0
END:VEVENT
END:VCALENDAR
