BEGIN:VCALENDAR
PRODID:-//AT Content Types//AT Event//EN
VERSION:1.0
BEGIN:VEVENT
DTSTART:20100430T180000Z
DTEND:20100430T210000Z
DCREATED:20100130T172344Z
UID:ATEvent-07c531bbd89ffe79434842a5b07ba72c
SEQUENCE:0
LAST-MODIFIED:20100130T172441Z
SUMMARY:Walpurgisnacht
DESCRIPTION:Zaubertrank-Hexenmärchen-Wiesenschmaus
LOCATION:Burg Obervoitsberg
PRIORITY:3
TRANSP:0
END:VEVENT
END:VCALENDAR
