BEGIN:VCALENDAR
PRODID:-//AT Content Types//AT Event//EN
VERSION:2.0
METHOD:PUBLISH
BEGIN:VEVENT
DTSTAMP:20260424T063935Z
CREATED:20120722T181537Z
UID:ATEvent-e87c7009fe2a8fe35311640408219423
LAST-MODIFIED:20120722T181538Z
SUMMARY:Samhain
DTSTART:20121028T170000Z
DTEND:20121028T190000Z
DESCRIPTION:Ein besinnlicher  Abend mit Märchen zum Leben und den Tod
 .
LOCATION:Rotes Kreuz-Voitsberg
CATEGORIES:Steiermark
CONTACT:Franziska Kren-Leitgeb\, 069910754177
CLASS:PUBLIC
END:VEVENT
END:VCALENDAR
