BEGIN:VCALENDAR
PRODID:-//AT Content Types//AT Event//EN
VERSION:2.0
METHOD:PUBLISH
BEGIN:VEVENT
DTSTAMP:20260424T064018Z
CREATED:20120722T173140Z
UID:ATEvent-7dbe4ef046ef2762456367e48c508fad
LAST-MODIFIED:20120722T174610Z
SUMMARY:Reise in den Urwald
DTSTART:20120809T070000Z
DTEND:20120809T083000Z
DESCRIPTION:Mit Märchen\, erzählt von Franziska Kren-Leitgeb-Trommel
 n mit Helga Antes-Tänzen und vielen mehr reisen wir in den Urwald. \n
 Wir werden malen\, uns verkleiden\, tanzen\, singen\,trommel\, riechen
 \, schmecken und noch so einiges erleben.\nGeeignet für Kinder ab 4 J
 ahren.
LOCATION:Voitsberg- Stadtsäle
CATEGORIES:Steiermark
CONTACT:Franziska Kren-Leitgeb\, 069910754177
CLASS:PUBLIC
END:VEVENT
END:VCALENDAR
