BEGIN:VCALENDAR
PRODID:-//AT Content Types//AT Event//EN
VERSION:2.0
METHOD:PUBLISH
BEGIN:VEVENT
DTSTAMP:20260424T064010Z
CREATED:20120722T172011Z
UID:ATEvent-121b76691043ee4f2a03cde8a659d4f3
LAST-MODIFIED:20120722T174303Z
SUMMARY:Märchenwanderung
DTSTART:20120724T070000Z
DTEND:20120724T110000Z
DESCRIPTION:Märchenwanderung auf den Zigöllerkogl. Erzählerin Franz
 iska Kren-Leitgeb. Kinder unter 5 Jahren nur in Begleitung Erwachsener
 . \nUnbedingt festes Schuhwerk.\nWir freuen uns auf einen herrlichen T
 ag.
LOCATION:Köflach
CATEGORIES:Steiermark
CONTACT:Franziska Kren-Leitgeb\, 069910754177
CLASS:PUBLIC
END:VEVENT
END:VCALENDAR
