BEGIN:VCALENDAR
PRODID:-//AT Content Types//AT Event//EN
VERSION:2.0
METHOD:PUBLISH
BEGIN:VEVENT
DTSTAMP:20260424T064332Z
CREATED:20120722T172546Z
UID:ATEvent-ac79ca57a7739c3c2b82c1478b466b2a
LAST-MODIFIED:20120722T174421Z
SUMMARY:Märchenwanderung
DTSTART:20120726T070000Z
DTEND:20120726T083000Z
DESCRIPTION:Wir wandern rund um den Grafenteich. Mit Märchen vom Wass
 er\, Fischen und vielen mehr.\nKinder unter 5 Jahren nur in Begleitung
  Erwachsener.\nNormales Schuhwerk ausreichend.\nAuf eine schöne Zeit 
 freut sich Erzählerin Franziska Kren-Leitgeb.
LOCATION:Voitsberg-Rittler-Teich
CATEGORIES:Steiermark
CONTACT:Franziska Kren-Leitgeb\, 069910754177
CLASS:PUBLIC
END:VEVENT
END:VCALENDAR
