BEGIN:VCALENDAR
PRODID:-//AT Content Types//AT Event//EN
VERSION:2.0
METHOD:PUBLISH
BEGIN:VEVENT
DTSTAMP:20260424T014855Z
CREATED:20110811T072156Z
UID:ATEvent-75f3b8858fef9fec7e60dd5f5228e984
LAST-MODIFIED:20110816T093324Z
SUMMARY:Märchenwanderung am Antiesenursprung
DTSTART:20110826T160000Z
DTEND:20110826T180000Z
DESCRIPTION:Ferienpass Ried i. I.\nMärchen und Geschichten aus aller 
 Welt\nTreffpunkt Andys Jausenstube
LOCATION:Eberschwang/ Illing
CATEGORIES:Oberösterreich
CONTACT:Stammler Erwin\, 066473562184\, i-am-es@aon.at
CLASS:PUBLIC
END:VEVENT
END:VCALENDAR
