BEGIN:VCALENDAR
PRODID:-//AT Content Types//AT Event//EN
VERSION:1.0
BEGIN:VEVENT
DTSTART:20110905T120000Z
DTEND:20110905T130000Z
DCREATED:20110811T071118Z
UID:ATEvent-9fbdbf32121748c0d087c8d08ba1b1d9
SEQUENCE:0
LAST-MODIFIED:20110816T092433Z
SUMMARY:Märchenstunde von 4 - 99 Jahre - Hausruckbühne
DESCRIPTION:im Zuge des Ars Electronica Programms ORIGIN wie alle begi
 nnt..
LOCATION:Thomasroith OÖ
PRIORITY:3
TRANSP:0
END:VEVENT
END:VCALENDAR
