BEGIN:VCALENDAR
PRODID:-//AT Content Types//AT Event//EN
VERSION:1.0
BEGIN:VEVENT
DTSTART:20110906T140000Z
DTEND:20110906T150000Z
DCREATED:20110811T071730Z
UID:ATEvent-7abf0eef894a55b0cbad2380bb196d8b
SEQUENCE:0
LAST-MODIFIED:20110816T091900Z
SUMMARY:Märchen\, Sagen u. Mythen -  für Erwachsene Hausruckbühne
DESCRIPTION:im Zuge des Ars Electronica Programms ORIGIN wie alles beg
 innt..
LOCATION:Thomasroith OÖ
PRIORITY:3
TRANSP:0
END:VEVENT
END:VCALENDAR
