BEGIN:VCALENDAR
PRODID:-//AT Content Types//AT Event//EN
VERSION:2.0
METHOD:PUBLISH
BEGIN:VEVENT
DTSTAMP:20260423T233046Z
CREATED:20110816T085213Z
UID:ATEvent-996466bf36cfd086645e7ab96a369032
LAST-MODIFIED:20110816T085729Z
SUMMARY:Erzählerinnnen unterwegs
DTSTART:20110903T120000Z
DTEND:20110903T160000Z
DESCRIPTION:Erzählerinnen und Erzähler ver- u. bezaubern an verschie
 denen Orten des Parks
LOCATION:Türkenschanzpark Wien
CATEGORIES:Wien
CONTACT:Stammler Erwin\, 066473562184\, i-am-es@aon.at
CLASS:PUBLIC
END:VEVENT
END:VCALENDAR
