BEGIN:VCALENDAR
PRODID:-//AT Content Types//AT Event//EN
VERSION:1.0
BEGIN:VEVENT
DTSTART:20110902T170000Z
DTEND:20110902T200000Z
DCREATED:20110811T072735Z
UID:ATEvent-a94070459ab7f964d5e0104a2751fcce
SEQUENCE:0
LAST-MODIFIED:20110816T093053Z
SUMMARY:Märchen und gruselige Geschichten
DESCRIPTION:Ferienpass Eberschwang\nLese- und Erzählnacht
LOCATION:Turnhalle Eberschwang
PRIORITY:3
TRANSP:0
END:VEVENT
END:VCALENDAR
