BEGIN:VCALENDAR
PRODID:-//AT Content Types//AT Event//EN
VERSION:2.0
METHOD:PUBLISH
BEGIN:VEVENT
DTSTAMP:20260424T042604Z
CREATED:20110811T073112Z
UID:ATEvent-4438dab83858c7080ce606bde757ecbc
LAST-MODIFIED:20110816T093003Z
SUMMARY:Märchen und Geschichten zur Vorweihnachtszeit
DTSTART:20111202T160000Z
DTEND:20111202T180000Z
DESCRIPTION:Familienverbund Aspach
LOCATION:Aspach Innviertel
CATEGORIES:Oberösterreich
CONTACT:Stammler Erwin\, 066473562184\, i-am-es@aon.at
CLASS:PUBLIC
END:VEVENT
END:VCALENDAR
