BEGIN:VCALENDAR
PRODID:-//AT Content Types//AT Event//EN
VERSION:2.0
METHOD:PUBLISH
BEGIN:VEVENT
DTSTAMP:20260424T041924Z
CREATED:20110811T070755Z
UID:ATEvent-e2da77bf073e61b5ec928c0068479696
LAST-MODIFIED:20110811T070755Z
SUMMARY:Märchenstunde von 4 - 99 Jahre -  Hausruckbühne
DTSTART:20110902T120000Z
DTEND:20110902T130000Z
DESCRIPTION:Im Zuge des Ars Electronica 2011 Programms ORIGIN wie alle
 s beginnt...
LOCATION:Thomasroith OÖ
CLASS:PUBLIC
END:VEVENT
END:VCALENDAR
