BEGIN:VCALENDAR
PRODID:-//AT Content Types//AT Event//EN
VERSION:1.0
BEGIN:VEVENT
DTSTART:20110320T150000Z
DTEND:20110320T160000Z
DCREATED:20110129T190928Z
UID:ATEvent-718725109517bef61c1e2d19e8d19694
SEQUENCE:0
LAST-MODIFIED:20110129T191323Z
SUMMARY:Wunschgeschichten mal drei am Weltgeschichtentag in Innsbruck
DESCRIPTION:Barbara Beinsteiner erzählt aus dem Nähkästchen für Fa
 milien (mit Kindern ab 7 Jahren)
LOCATION:Neururerhaus\, Riedgasse 9\, Innsbruck
PRIORITY:3
TRANSP:0
END:VEVENT
END:VCALENDAR
