BEGIN:VCALENDAR
PRODID:-//AT Content Types//AT Event//EN
VERSION:1.0
BEGIN:VEVENT
DTSTART:20110320T183000Z
DTEND:20110320T210000Z
DCREATED:20110129T185626Z
UID:ATEvent-9553ab13d25a66e1d180f235c4b2a39b
SEQUENCE:0
LAST-MODIFIED:20110129T191028Z
SUMMARY:Wunschgeschichten hoch drei am Weltgeschichtentag in Innsbruck
DESCRIPTION:Ein Erzählabend für hungrige Ohren
LOCATION:Neururerhaus\, Riedgasse 9\, Innsbruck
PRIORITY:3
TRANSP:0
END:VEVENT
END:VCALENDAR
