BEGIN:VCALENDAR
PRODID:-//AT Content Types//AT Event//EN
VERSION:2.0
METHOD:PUBLISH
BEGIN:VEVENT
DTSTAMP:20260424T014856Z
CREATED:20100616T183424Z
UID:ATEvent-db1ed155af0ff4dc9e85e2e0644ed51d
LAST-MODIFIED:20100907T152028Z
SUMMARY:Wohin schaut Gott?
DTSTART:20101021T173000Z
DTEND:20101021T193000Z
DESCRIPTION:Orientalische und ostjüdische Weisheitsgeschichten mit Mu
 sik in der Bibliothek des Innsbrucker Kapuzinerklosters
LOCATION:Innsbruck\, Provinzbibliothek der Österreichischen Kapuzinerprovinz\, Kaiserjägerstraße 6
CATEGORIES:Tirol
CONTACT:Christian Kayed\, 0676-4103071
URL:http://www.storyguide.at
CLASS:PUBLIC
END:VEVENT
END:VCALENDAR
