BEGIN:VCALENDAR
PRODID:-//AT Content Types//AT Event//EN
VERSION:2.0
METHOD:PUBLISH
BEGIN:VEVENT
DTSTAMP:20260424T014704Z
CREATED:20100422T184213Z
UID:ATEvent-56a9ce4f5fae4e8a246626fe090bf19c
LAST-MODIFIED:20100422T184325Z
SUMMARY:Wer das Glück sät
DTSTART:20100526T180000Z
DTEND:20100526T200000Z
DESCRIPTION:Ein Märchenabend mit Musik\, die es nur ein Dutzend Mal a
 uf der Welt gibt
LOCATION:Landeck\, Stadtbücherei\, Schulhausplatz 2
CATEGORIES:Tirol
CONTACT:Christian Kayed\, 0676-4103071\, christian.kayed@storyguide.at
URL:http://www.storyguide.at
CLASS:PUBLIC
END:VEVENT
END:VCALENDAR
