BEGIN:VCALENDAR
PRODID:-//AT Content Types//AT Event//EN
VERSION:2.0
METHOD:PUBLISH
BEGIN:VEVENT
DTSTAMP:20260424T015719Z
CREATED:20111120T175340Z
UID:ATEvent-014f018c8b0a2f7ba7735f24371280ba
LAST-MODIFIED:20111120T175340Z
SUMMARY:Warum es am Heiligen Abend einen süßen Brei gibt
DTSTART:20111130T183000Z
DTEND:20111130T201500Z
DESCRIPTION:Märchen und Musik zur Weihnachtszeit in der Bibliothek de
 s Innsbrucker Kapuzinerklosters
LOCATION:Bibliothek im Kapuzinerkloster\, Kaiserjägerstraße 6\, Innsbruck
CATEGORIES:Tirol
CONTACT:Christian Kayed\, 0676-4103071
URL:http://www.storyguide.at
CLASS:PUBLIC
END:VEVENT
END:VCALENDAR
