BEGIN:VCALENDAR
PRODID:-//AT Content Types//AT Event//EN
VERSION:2.0
METHOD:PUBLISH
BEGIN:VEVENT
DTSTAMP:20260424T015058Z
CREATED:20110911T173619Z
UID:ATEvent-14e16bc54c043dc6e146f84ef4b0ecc5
LAST-MODIFIED:20110911T173620Z
SUMMARY:Von Bergen und Menschen
DTSTART:20111203T100000Z
DTEND:20111203T113000Z
DESCRIPTION:Eine trittsichere und gipfelreiche Geschichtenführung im 
 Innsbrucker Alpenvereinsmuseum
LOCATION:Innsbruck\, Alpenvereinsmuseum\, Hofburg\, Rennweg 1
CATEGORIES:Tirol
CONTACT:Christian Kayed\, 0676-4103071
URL:http://www.storyguide.at
CLASS:PUBLIC
END:VEVENT
END:VCALENDAR
